BEGIN:VCALENDAR
VERSION:2.0
PRODID:-//Eventin//Event Calendar//EN
CALSCALE:GREGORIAN
METHOD:PUBLISH
BEGIN:VEVENT
UID:a8a0f98325b3c5b7aee9eef4a60e71c6@caltendai.org
SUMMARY:Gongyo/Formal Daily Service
DESCRIPTION:
LOCATION:15362 Shasta Road\, Cobb\, CA\, USA
DTSTAMP:20260422T085413Z
DTSTART:20271211T180000Z
DTEND:20271211T190000Z
END:VEVENT
END:VCALENDAR
