BEGIN:VCALENDAR
VERSION:2.0
PRODID:-//Eventin//Event Calendar//EN
CALSCALE:GREGORIAN
METHOD:PUBLISH
BEGIN:VEVENT
UID:337205052617f6bb0a18a7074fbbbfd1@caltendai.org
SUMMARY:Gongyo/Formal Daily Service
DESCRIPTION:
LOCATION:15362 Shasta Road\, Cobb\, CA\, USA
DTSTAMP:20260420T154055Z
DTSTART:20271204T180000Z
DTEND:20271204T190000Z
END:VEVENT
END:VCALENDAR
