BEGIN:VCALENDAR
VERSION:2.0
PRODID:-//Eventin//Event Calendar//EN
CALSCALE:GREGORIAN
METHOD:PUBLISH
BEGIN:VEVENT
UID:de6b3ff175ba29db9c8ba8d68b8a2d83@caltendai.org
SUMMARY:Gongyo/Formal Daily Service
DESCRIPTION:
LOCATION:15362 Shasta Road\, Cobb\, CA\, USA
DTSTAMP:20260422T102047Z
DTSTART:20271127T180000Z
DTEND:20271127T190000Z
END:VEVENT
END:VCALENDAR
