BEGIN:VCALENDAR
VERSION:2.0
PRODID:-//Eventin//Event Calendar//EN
CALSCALE:GREGORIAN
METHOD:PUBLISH
BEGIN:VEVENT
UID:a76e6f2ba7278e1119c255796cbe1526@caltendai.org
SUMMARY:Gongyo/Formal Daily Service
DESCRIPTION:
LOCATION:15362 Shasta Road\, Cobb\, CA\, USA
DTSTAMP:20260420T154239Z
DTSTART:20271030T170000Z
DTEND:20271030T180000Z
END:VEVENT
END:VCALENDAR
