BEGIN:VCALENDAR
VERSION:2.0
PRODID:-//Eventin//Event Calendar//EN
CALSCALE:GREGORIAN
METHOD:PUBLISH
BEGIN:VEVENT
UID:f2f1b5f2aade8b352d5d6cd96fe30095@caltendai.org
SUMMARY:Gongyo/Formal Daily Service
DESCRIPTION:
LOCATION:15362 Shasta Road\, Cobb\, CA\, USA
DTSTAMP:20260420T103828Z
DTSTART:20271023T170000Z
DTEND:20271023T180000Z
END:VEVENT
END:VCALENDAR
