BEGIN:VCALENDAR
VERSION:2.0
PRODID:-//Eventin//Event Calendar//EN
CALSCALE:GREGORIAN
METHOD:PUBLISH
BEGIN:VEVENT
UID:0532f7b7b096cdd55299ab73227f5c3e@caltendai.org
SUMMARY:Gongyo/Formal Daily Service
DESCRIPTION:
LOCATION:15362 Shasta Road\, Cobb\, CA\, USA
DTSTAMP:20260422T102257Z
DTSTART:20270821T170000Z
DTEND:20270821T180000Z
END:VEVENT
END:VCALENDAR
