BEGIN:VCALENDAR
VERSION:2.0
PRODID:-//Eventin//Event Calendar//EN
CALSCALE:GREGORIAN
METHOD:PUBLISH
BEGIN:VEVENT
UID:7b5a36c4a390d89737429a5c21e26228@caltendai.org
SUMMARY:Gongyo/Formal Daily Service
DESCRIPTION:
LOCATION:15362 Shasta Road\, Cobb\, CA\, USA
DTSTAMP:20260420T142059Z
DTSTART:20270710T170000Z
DTEND:20270710T180000Z
END:VEVENT
END:VCALENDAR
