BEGIN:VCALENDAR
VERSION:2.0
PRODID:-//Eventin//Event Calendar//EN
CALSCALE:GREGORIAN
METHOD:PUBLISH
BEGIN:VEVENT
UID:727fe084c96b990d82ac90f13a908864@caltendai.org
SUMMARY:Gongyo/Formal Daily Service
DESCRIPTION:
LOCATION:15362 Shasta Road\, Cobb\, CA\, USA
DTSTAMP:20260421T162401Z
DTSTART:20270529T170000Z
DTEND:20270529T180000Z
END:VEVENT
END:VCALENDAR
