BEGIN:VCALENDAR
VERSION:2.0
PRODID:-//Eventin//Event Calendar//EN
CALSCALE:GREGORIAN
METHOD:PUBLISH
BEGIN:VEVENT
UID:edb17be3fa3eda0fab09a8bd6cf54434@caltendai.org
SUMMARY:Gongyo/Formal Daily Service
DESCRIPTION:
LOCATION:15362 Shasta Road\, Cobb\, CA\, USA
DTSTAMP:20260420T092357Z
DTSTART:20270403T170000Z
DTEND:20270403T180000Z
END:VEVENT
END:VCALENDAR
