BEGIN:VCALENDAR
VERSION:2.0
PRODID:-//Eventin//Event Calendar//EN
CALSCALE:GREGORIAN
METHOD:PUBLISH
BEGIN:VEVENT
UID:c5a6d7c3edcabb7a49f3d921592386e1@caltendai.org
SUMMARY:Gongyo/Formal Daily Service
DESCRIPTION:
LOCATION:15362 Shasta Road\, Cobb\, CA\, USA
DTSTAMP:20260422T084406Z
DTSTART:20270313T180000Z
DTEND:20270313T190000Z
END:VEVENT
END:VCALENDAR
