BEGIN:VCALENDAR
VERSION:2.0
PRODID:-//Eventin//Event Calendar//EN
CALSCALE:GREGORIAN
METHOD:PUBLISH
BEGIN:VEVENT
UID:e3abd22d3a6095f53546a6c93eb323cf@caltendai.org
SUMMARY:Gongyo/Formal Daily Service
DESCRIPTION:
LOCATION:15362 Shasta Road\, Cobb\, CA\, USA
DTSTAMP:20260420T144124Z
DTSTART:20270306T180000Z
DTEND:20270306T190000Z
END:VEVENT
END:VCALENDAR
