BEGIN:VCALENDAR
VERSION:2.0
PRODID:-//Eventin//Event Calendar//EN
CALSCALE:GREGORIAN
METHOD:PUBLISH
BEGIN:VEVENT
UID:b9fe6f776ded34c3b9a02f1140f3870c@caltendai.org
SUMMARY:Gongyo/Formal Daily Service
DESCRIPTION:
LOCATION:15362 Shasta Road\, Cobb\, CA\, USA
DTSTAMP:20260420T114916Z
DTSTART:20270220T180000Z
DTEND:20270220T190000Z
END:VEVENT
END:VCALENDAR
