BEGIN:VCALENDAR
VERSION:2.0
PRODID:-//Eventin//Event Calendar//EN
CALSCALE:GREGORIAN
METHOD:PUBLISH
BEGIN:VEVENT
UID:aa1a7ab9b8bc8f99dd84162171b491ff@caltendai.org
SUMMARY:Gongyo/Formal Daily Service
DESCRIPTION:
LOCATION:15362 Shasta Road\, Cobb\, CA\, USA
DTSTAMP:20260420T080349Z
DTSTART:20270109T180000Z
DTEND:20270109T190000Z
END:VEVENT
END:VCALENDAR
