BEGIN:VCALENDAR
VERSION:2.0
PRODID:-//Eventin//Event Calendar//EN
CALSCALE:GREGORIAN
METHOD:PUBLISH
BEGIN:VEVENT
UID:5eae1c1156c2358c466d6bde162d6826@caltendai.org
SUMMARY:Gongyo/Formal Daily Service
DESCRIPTION:
LOCATION:15362 Shasta Road\, Cobb\, CA\, USA
DTSTAMP:20260420T130623Z
DTSTART:20261128T180000Z
DTEND:20261128T190000Z
END:VEVENT
END:VCALENDAR
