BEGIN:VCALENDAR
VERSION:2.0
PRODID:-//Eventin//Event Calendar//EN
CALSCALE:GREGORIAN
METHOD:PUBLISH
BEGIN:VEVENT
UID:973bd70a8a06dc1e0814ef278b51ee58@caltendai.org
SUMMARY:Gongyo/Formal Daily Service
DESCRIPTION:
LOCATION:15362 Shasta Road\, Cobb\, CA\, USA
DTSTAMP:20260420T114705Z
DTSTART:20261017T170000Z
DTEND:20261017T180000Z
END:VEVENT
END:VCALENDAR
