BEGIN:VCALENDAR
VERSION:2.0
PRODID:-//Eventin//Event Calendar//EN
CALSCALE:GREGORIAN
METHOD:PUBLISH
BEGIN:VEVENT
UID:d98ce30aa5d00a35a17afacc4b55c12c@caltendai.org
SUMMARY:Gongyo/Formal Daily Service
DESCRIPTION:
LOCATION:15362 Shasta Road\, Cobb\, CA\, USA
DTSTAMP:20260420T092408Z
DTSTART:20261003T170000Z
DTEND:20261003T180000Z
END:VEVENT
END:VCALENDAR
