BEGIN:VCALENDAR
VERSION:2.0
PRODID:-//Eventin//Event Calendar//EN
CALSCALE:GREGORIAN
METHOD:PUBLISH
BEGIN:VEVENT
UID:0f66eb2b90ed0b1cc77cf91474b9523c@caltendai.org
SUMMARY:Gongyo/Formal Daily Service
DESCRIPTION:
LOCATION:15362 Shasta Road\, Cobb\, CA\, USA
DTSTAMP:20260420T114753Z
DTSTART:20260905T170000Z
DTEND:20260905T180000Z
END:VEVENT
END:VCALENDAR
