BEGIN:VCALENDAR
VERSION:2.0
PRODID:-//Eventin//Event Calendar//EN
CALSCALE:GREGORIAN
METHOD:PUBLISH
BEGIN:VEVENT
UID:708c8f638f5fe2215cd6dd4fdae02137@caltendai.org
SUMMARY:Gongyo/Formal Daily Service
DESCRIPTION:
LOCATION:15362 Shasta Road\, Cobb\, CA\, USA
DTSTAMP:20260420T133436Z
DTSTART:20260822T170000Z
DTEND:20260822T180000Z
END:VEVENT
END:VCALENDAR
