BEGIN:VCALENDAR
VERSION:2.0
PRODID:-//Eventin//Event Calendar//EN
CALSCALE:GREGORIAN
METHOD:PUBLISH
BEGIN:VEVENT
UID:291092f0b07ee8a5520bc01444b2d51e@caltendai.org
SUMMARY:Gongyo/Formal Daily Service
DESCRIPTION:
LOCATION:15362 Shasta Road\, Cobb\, CA\, USA
DTSTAMP:20260421T185933Z
DTSTART:20260704T170000Z
DTEND:20260704T180000Z
END:VEVENT
END:VCALENDAR
