BEGIN:VCALENDAR
VERSION:2.0
PRODID:-//Eventin//Event Calendar//EN
CALSCALE:GREGORIAN
METHOD:PUBLISH
BEGIN:VEVENT
UID:e1d468b9cb87386a3b9762e41f2c3d9e@caltendai.org
SUMMARY:Gongyo/Formal Daily Service
DESCRIPTION:
LOCATION:15362 Shasta Road\, Cobb\, CA\, USA
DTSTAMP:20260421T162852Z
DTSTART:20260620T170000Z
DTEND:20260620T180000Z
END:VEVENT
END:VCALENDAR
