BEGIN:VCALENDAR
VERSION:2.0
PRODID:-//Eventin//Event Calendar//EN
CALSCALE:GREGORIAN
METHOD:PUBLISH
BEGIN:VEVENT
UID:713b3bfbb5d5e0ea003fae403fd70d09@caltendai.org
SUMMARY:Gongyo/Formal Daily Service
DESCRIPTION:
LOCATION:15362 Shasta Road\, Cobb\, CA\, USA
DTSTAMP:20260420T141853Z
DTSTART:20260523T170000Z
DTEND:20260523T180000Z
END:VEVENT
END:VCALENDAR
