BEGIN:VCALENDAR
VERSION:2.0
PRODID:-//Eventin//Event Calendar//EN
CALSCALE:GREGORIAN
METHOD:PUBLISH
BEGIN:VEVENT
UID:152a9d0471ceb7fceeae19a0be541e0a@caltendai.org
SUMMARY:Gongyo/Formal Daily Service
DESCRIPTION:
LOCATION:15362 Shasta Road\, Cobb\, CA\, USA
DTSTAMP:20260422T084037Z
DTSTART:20260509T170000Z
DTEND:20260509T180000Z
END:VEVENT
END:VCALENDAR
