BEGIN:VCALENDAR
VERSION:2.0
PRODID:-//Eventin//Event Calendar//EN
CALSCALE:GREGORIAN
METHOD:PUBLISH
BEGIN:VEVENT
UID:b0d818736e7a6cfc3c09d9fd0d16cba5@caltendai.org
SUMMARY:Dharma Talk &#038\; Shikan
DESCRIPTION:
LOCATION:15362 Shasta Rd\, Cobb\, CA\, USA
DTSTAMP:20260423T082342Z
DTSTART:20280901T010000Z
DTEND:20280901T040000Z
END:VEVENT
END:VCALENDAR
