BEGIN:VCALENDAR
VERSION:2.0
PRODID:-//Eventin//Event Calendar//EN
CALSCALE:GREGORIAN
METHOD:PUBLISH
BEGIN:VEVENT
UID:4bdeccbc390936da583c4abf6ecbf2f0@caltendai.org
SUMMARY:Dharma Talk &#038\; Shikan
DESCRIPTION:
LOCATION:15362 Shasta Rd\, Cobb\, CA\, USA
DTSTAMP:20260423T082419Z
DTSTART:20280707T010000Z
DTEND:20280707T040000Z
END:VEVENT
END:VCALENDAR
