BEGIN:VCALENDAR
VERSION:2.0
PRODID:-//Eventin//Event Calendar//EN
CALSCALE:GREGORIAN
METHOD:PUBLISH
BEGIN:VEVENT
UID:52153971d144d9ae80a13c41cd4342e7@caltendai.org
SUMMARY:Dharma Talk &#038\; Shikan
DESCRIPTION:
LOCATION:15362 Shasta Rd\, Cobb\, CA\, USA
DTSTAMP:20260423T082327Z
DTSTART:20280616T010000Z
DTEND:20280616T040000Z
END:VEVENT
END:VCALENDAR
