BEGIN:VCALENDAR
VERSION:2.0
PRODID:-//Eventin//Event Calendar//EN
CALSCALE:GREGORIAN
METHOD:PUBLISH
BEGIN:VEVENT
UID:a33d7e42e89b6f29d29ec2ce8a680e1e@caltendai.org
SUMMARY:Dharma Talk &#038\; Shikan
DESCRIPTION:
LOCATION:15362 Shasta Rd\, Cobb\, CA\, USA
DTSTAMP:20260423T082542Z
DTSTART:20280331T010000Z
DTEND:20280331T040000Z
END:VEVENT
END:VCALENDAR
