BEGIN:VCALENDAR
VERSION:2.0
PRODID:-//Eventin//Event Calendar//EN
CALSCALE:GREGORIAN
METHOD:PUBLISH
BEGIN:VEVENT
UID:4fbb2ec61e8fb3855cfcb131906075e4@caltendai.org
SUMMARY:Dharma Talk &#038\; Shikan
DESCRIPTION:
LOCATION:15362 Shasta Rd\, Cobb\, CA\, USA
DTSTAMP:20260423T082613Z
DTSTART:20270827T010000Z
DTEND:20270827T040000Z
END:VEVENT
END:VCALENDAR
