BEGIN:VCALENDAR
VERSION:2.0
PRODID:-//Eventin//Event Calendar//EN
CALSCALE:GREGORIAN
METHOD:PUBLISH
BEGIN:VEVENT
UID:201379d077f23721ba9c0a1230a58d75@caltendai.org
SUMMARY:Dharma Talk &#038\; Shikan
DESCRIPTION:
LOCATION:15362 Shasta Rd\, Cobb\, CA\, USA
DTSTAMP:20260423T093837Z
DTSTART:20270514T010000Z
DTEND:20270514T040000Z
END:VEVENT
END:VCALENDAR
