BEGIN:VCALENDAR
VERSION:2.0
PRODID:-//Eventin//Event Calendar//EN
CALSCALE:GREGORIAN
METHOD:PUBLISH
BEGIN:VEVENT
UID:a5d619245a14bebf98765b734c205b66@caltendai.org
SUMMARY:Dharma Talk &#038\; Shikan
DESCRIPTION:
LOCATION:15362 Shasta Rd\, Cobb\, CA\, USA
DTSTAMP:20260423T082630Z
DTSTART:20261225T020000Z
DTEND:20261225T050000Z
END:VEVENT
END:VCALENDAR
